Workbook
Name Competition: #REF!
Name Competition: #REF!
Name Competition: #REF!
Name Compétition: '[1]Valeurs Dames'!$Q$81:$Q$86
Name listeRégion: #REF!
Name listeRégion: #REF!
Name listeRégion: '[2]Cat. d''âge'!$H$4:$H$34
Name listeRégions: '[3]Cat. d''âge'!$M$4:$M$25
Name Sexe: #REF!
Name Sexe: #REF!
Name Sexe: #REF!

Sheet Niveaux FA
A1: Pour tous
A2: Niveau R3 - R2 - R1 - N2 - N1 - Europe et Monde sont des niveaux de performance pour avoir des objectifs de progression.
A3: Pour les règles de sélection, voir règlement sportif pour les détails de présélection pour les finales France et les règlements de sélections pour l'international
A4: Les niveaux sont revus après chaque fin de qualifications aux finales France ou après la finale France (Jeunes, Masters, Open)
A5: Les performances inférieures au R3 sont classées par défaut comme niveau départemental
A6: NIVEAUX Force Athlétique mis à jour 13 Novembre 2025 (pas de changement pour 2027 pour Jeunes et Masters) Niveaux FA pour qualifications 2026 et 2027 (Jeunes/Masters)
A7: *Niveaux Jeunes ne sont pas changés | G7: *Niveaux Masters ne sont pas changés | M7: *Niveaux Senior Open N1 et N2 seront adaptés après la fin des qualification France FA Open
A9: Subjunior masculin (U18) | J9: Subjunior féminine (U18)
A10: Catég. | B10: R3 | C10: R2 | D10: R1 | E10: N2 | F10: N1 | G10: Europe | H10: Monde | J10: Catég. | K10: R3 | L10: R2 | M10: R1 | N10: N2 | O10: N1 | P10: Europe | Q10: Monde
A11: 53 | B11: 145 | C11: 195 | D11: 245 | E11: 272.5 | F11: 320 | G11: 490 | H11: 500 | J11: 43 | K11: 80 | L11: 102.5 | M11: 125 | N11: 147.5 | O11: 190 | P11: 260 | Q11: 270
A12: 59 | B12: 170 | C12: 220 | D12: 290 | E12: 320 | F12: 380 | G12: 500 | H12: 510 | J12: 47 | K12: 100 | L12: 122.5 | M12: 145 | N12: 167.5 | O12: 210 | P12: 270 | Q12: 280
A13: 66 | B13: 235 | C13: 285 | D13: 355 | E13: 387.5 | F13: 470 | G13: 560 | H13: 590 | J13: 52 | K13: 110 | L13: 135 | M13: 160 | N13: 185 | O13: 240 | P13: 335 | Q13: 340
A14: 74 | B14: 285 | C14: 335 | D14: 405 | E14: 442.5 | F14: 515 | G14: 610 | H14: 650 | J14: 57 | K14: 120 | L14: 147.5 | M14: 175 | N14: 202.5 | O14: 265 | P14: 345 | Q14: 350
A15: 83 | B15: 335 | C15: 385 | D15: 455 | E15: 492.5 | F15: 535 | G15: 660 | H15: 700 | J15: 63 | K15: 125 | L15: 152.5 | M15: 180 | N15: 207.5 | O15: 285 | P15: 395 | Q15: 400
A16: 93 | B16: 315 | C16: 365 | D16: 465 | E16: 502.5 | F16: 545 | G16: 680 | H16: 720 | J16: 69 | K16: 140 | L16: 167.5 | M16: 195 | N16: 222.5 | O16: 300 | P16: 420 | Q16: 425
A17: 105 | B17: 325 | C17: 375 | D17: 475 | E17: 512.5 | F17: 560 | G17: 700 | H17: 730 | J17: 76 | K17: 160 | L17: 187.5 | M17: 215 | N17: 242.5 | O17: 315 | P17: 425 | Q17: 430
A18: 120 | B18: 335 | C18: 385 | D18: 485 | E18: 522.5 | F18: 580 | G18: 720 | H18: 740 | J18: 84 | K18: 175 | L18: 202.5 | M18: 230 | N18: 257.5 | O18: 320 | P18: 430 | Q18: 435
A19: 120 + | B19: 355 | C19: 405 | D19: 505 | E19: 542.5 | F19: 590 | G19: 725 | H19: 745 | J19: 84 + | K19: 190 | L19: 217.5 | M19: 245 | N19: 272.5 | O19: 340 | P19: 440 | Q19: 450
A21: Junior masculin (U23) | J21: Junior féminine (U23)
A22: Catég. | B22: R3 | C22: R2 | D22: R1 | E22: N2 | F22: N1 | G22: Europe | H22: Monde | J22: Catég. | K22: R3 | L22: R2 | M22: R1 | N22: N2 | O22: N1 | P22: Europe | Q22: Monde
A23: 53 | B23: 200 | C23: 250 | D23: 300 | E23: 362.5 | F23: 400 | G23: 535 | H23: 550 | J23: 43 | K23: 125 | L23: 145 | M23: 165 | N23: 187.5 | O23: 230 | P23: 340 | Q23: 345
A24: 59 | B24: 215 | C24: 265 | D24: 335 | E24: 420 | F24: 480 | G24: 545 | H24: 590 | J24: 47 | K24: 140 | L24: 160 | M24: 180 | N24: 207.5 | O24: 285 | P24: 345 | Q24: 365
A25: 66 | B25: 295 | C25: 345 | D25: 415 | E25: 497.5 | F25: 557.5 | G25: 620 | H25: 640 | J25: 52 | K25: 190 | L25: 210 | M25: 230 | N25: 255 | O25: 335 | P25: 370 | Q25: 380
A26: 74 | B26: 360 | C26: 410 | D26: 480 | E26: 562.5 | F26: 650 | G26: 695 | H26: 715 | J26: 57 | K26: 200 | L26: 230 | M26: 260 | N26: 302.5 | O26: 365 | P26: 420 | Q26: 430
A27: 83 | B27: 410 | C27: 460 | D27: 530 | E27: 602.5 | F27: 680 | G27: 740 | H27: 770 | J27: 63 | K27: 220 | L27: 250 | M27: 280 | N27: 322.5 | O27: 390 | P27: 455 | Q27: 465
A28: 93 | B28: 397.5 | C28: 447.5 | D28: 547.5 | E28: 627.5 | F28: 695 | G28: 780 | H28: 815 | J28: 69 | K28: 230 | L28: 260 | M28: 290 | N28: 332.5 | O28: 410 | P28: 490 | Q28: 515
A29: 105 | B29: 420 | C29: 470 | D29: 570 | E29: 642.5 | F29: 707.5 | G29: 810 | H29: 840 | J29: 76 | K29: 235 | L29: 265 | M29: 295 | N29: 342.5 | O29: 420 | P29: 500 | Q29: 520
A30: 120 | B30: 427.5 | C30: 477.5 | D30: 577.5 | E30: 652.5 | F30: 715 | G30: 840 | H30: 850 | J30: 84 | K30: 245 | L30: 275 | M30: 305 | N30: 352.5 | O30: 425 | P30: 520 | Q30: 535
A31: 120 + | B31: 440 | C31: 490 | D31: 590 | E31: 662.5 | F31: 730 | G31: 845 | H31: 860 | J31: 84 + | K31: 250 | L31: 280 | M31: 310 | N31: 357.5 | O31: 430 | P31: 530 | Q31: 540
A33: Senior / Open masculin | J33: Senior / Open féminine
A34: Catég. | B34: R3 | C34: R2 | D34: R1 | E34: N2 | F34: N1 | G34: Europe | H34: Monde | J34: Catég. | K34: R3 | L34: R2 | M34: R1 | N34: N2 | O34: N1 | P34: Europe | Q34: Monde
A35: 59 | B35: =C35-50 -> 350 | C35: =D35-50 -> 400 | D35: =E35-50 -> 450 | E35: 500 | F35: 535 | G35: 580 | H35: 600 | J35: 47 | K35: =L35-20 -> 200 | L35: =M35-30 -> 220 | M35: =N35-50 -> 250 | N35: 300 | O35: 325 | P35: 390 | Q35: 400
A36: 66 | B36: =C36-50 -> 430 | C36: =D36-50 -> 480 | D36: =E36-50 -> 530 | E36: 580 | F36: 600 | G36: 650 | H36: 670 | J36: 52 | K36: =L36-20 -> 250 | L36: =M36-30 -> 270 | M36: =N36-50 -> 300 | N36: 350 | O36: 380 | P36: 425 | Q36: 435
A37: 74 | B37: =C37-50 -> 510 | C37: =D37-50 -> 560 | D37: =E37-50 -> 610 | E37: 660 | F37: 680 | G37: 750 | H37: 760 | J37: 57 | K37: =L37-30 -> 265 | L37: =M37-40 -> 295 | M37: =N37-50 -> 335 | N37: 385 | O37: 410 | P37: 475 | Q37: 485
A38: 83 | B38: =C38-50 -> 570 | C38: =D38-50 -> 620 | D38: =E38-50 -> 670 | E38: 720 | F38: 740 | G38: 790 | H38: 810 | J38: 63 | K38: =L38-30 -> 280 | L38: =M38-40 -> 310 | M38: =N38-50 -> 350 | N38: 400 | O38: 440 | P38: 500 | Q38: 510
A39: 93 | B39: =C39-50 -> 595 | C39: =D39-50 -> 645 | D39: =E39-50 -> 695 | E39: 745 | F39: 770 | G39: 840 | H39: 860 | J39: 69 | K39: =L39-30 -> 300 | L39: =M39-40 -> 330 | M39: =N39-50 -> 370 | N39: 420 | O39: 460 | P39: 535 | Q39: 550
A40: 105 | B40: =C40-50 -> 620 | C40: =D40-50 -> 670 | D40: =E40-40 -> 720 | E40: 760 | F40: 800 | G40: 900 | H40: 910 | J40: 76 | K40: =L40-30 -> 305 | L40: =M40-40 -> 335 | M40: =N40-50 -> 375 | N40: 425 | O40: 470 | P40: 550 | Q40: 565
A41: 120 | B41: =C41-50 -> 610 | C41: =D41-50 -> 660 | D41: =E41-60 -> 710 | E41: 770 | F41: 810 | G41: 915 | H41: 930 | J41: 84 | K41: =L41-30 -> 315 | L41: =M41-40 -> 345 | M41: =N41-50 -> 385 | N41: 435 | O41: 480 | P41: 555 | Q41: 570
A42: 120 + | B42: =C42-50 -> 640 | C42: =D42-50 -> 690 | D42: =E42-60 -> 740 | E42: 800 | F42: 820 | G42: 920 | H42: 950 | J42: 84+ | K42: =L42-30 -> 320 | L42: =M42-40 -> 350 | M42: =N42-50 -> 390 | N42: 440 | O42: 500 | P42: 620 | Q42: 650
A44: Master 1 masculin | J44: Master 1 féminine
A45: Catég. | B45: R3 | C45: R2 | D45: R1 | E45: N2 | F45: N1 | J45: Catég. | K45: R3 | L45: R2 | M45: R1 | N45: N2 | O45: N1
A46: 59 | B46: 157.5 | C46: 220 | D46: 267.5 | E46: 290 | F46: 370 | J46: 47 | K46: 102.5 | L46: 145 | M46: 177.5 | N46: 190 | O46: 240
A47: 66 | B47: 185 | C47: 260 | D47: 315 | E47: 347.5 | F47: 400 | J47: 52 | K47: 112.5 | L47: 157.5 | M47: 192.5 | N47: 210 | O47: 260
A48: 74 | B48: 212.5 | C48: 300 | D48: 362.5 | E48: 395 | F48: 465 | J48: 57 | K48: 120 | L48: 167.5 | M48: 205 | N48: 220 | O48: 270
A49: 83 | B49: 240 | C49: 335 | D49: 407.5 | E49: 452.5 | F49: 540 | J49: 63 | K49: 125 | L49: 172.5 | M49: 210 | N49: 225 | O49: 280
A50: 93 | B50: 265 | C50: 370 | D50: 450 | E50: 492.5 | F50: 580 | J50: 69 | K50: 127.5 | L50: 180 | M50: 217.5 | N50: 240 | O50: 300
A51: 105 | B51: 280 | C51: 392.5 | D51: 475 | E51: 517.5 | F51: 600 | J51: 76 | K51: 135 | L51: 190 | M51: 230 | N51: 250 | O51: 310
A52: 120 | B52: 302.5 | C52: 422.5 | D52: 515 | E52: 557.5 | F52: 630 | J52: 84 | K52: 142.5 | L52: 200 | M52: 242.5 | N52: 260 | O52: 330
A53: 120 + | B53: 305 | C53: 427.5 | D53: 517.5 | E53: 560 | F53: 650 | J53: 84 + | K53: 150 | L53: 210 | M53: 255 | N53: 270 | O53: 340
A55: Master 2 masculin | J55: Master 2 féminine
A56: Catég. | B56: R3 | C56: R2 | D56: R1 | E56: N2 | F56: N1 | J56: Catég. | K56: R3 | L56: R2 | M56: R1 | N56: N2 | O56: N1
A57: 59 | B57: 142.5 | C57: 197.5 | D57: 240 | E57: 270 | F57: 340 | J57: 47 | K57: 92.5 | L57: 132.5 | M57: 160 | N57: 170 | O57: 200
A58: 66 | B58: 167.5 | C58: 235 | D58: 285 | E58: 312.5 | F58: 380 | J58: 52 | K58: 102.5 | L58: 142.5 | M58: 172.5 | N58: 185 | O58: 220
A59: 74 | B59: 192.5 | C59: 270 | D59: 327.5 | E59: 362.5 | F59: 435 | J59: 57 | K59: 107.5 | L59: 152.5 | M59: 185 | N59: 200 | O59: 235
A60: 83 | B60: 217.5 | C60: 302.5 | D60: 367.5 | E60: 400 | F60: 480 | J60: 63 | K60: 112.5 | L60: 157.5 | M60: 190 | N60: 205 | O60: 250
A61: 93 | B61: 240 | C61: 335 | D61: 405 | E61: 440 | F61: 510 | J61: 69 | K61: 117.5 | L61: 165 | M61: 200 | N61: 215 | O61: 265
A62: 105 | B62: 252.5 | C62: 352.5 | D62: 430 | E62: 465 | F62: 530 | J62: 76 | K62: 122.5 | L62: 170 | M62: 207.5 | N62: 225 | O62: 280
A63: 120 | B63: 272.5 | C63: 380 | D63: 462.5 | E63: 500 | F63: 560 | J63: 84 | K63: 130 | L63: 182.5 | M63: 220 | N63: 240 | O63: 295
A64: 120 + | B64: 292.5 | C64: 407.5 | D64: 495 | E64: 527.5 | F64: 600 | J64: 84 + | K64: 140 | L64: 195 | M64: 235 | N64: 255 | O64: 305
A66: Master 3 masculin | J66: Master 3 féminine
A67: Catég. | B67: R3 | C67: R2 | D67: R1 | E67: N2 | F67: N1 | J67: Catég. | K67: R3 | L67: R2 | M67: R1 | N67: N2 | O67: N1
A68: 59 | B68: 127.5 | C68: 177.5 | D68: 215 | E68: 237.5 | F68: 280 | J68: 47 | K68: 82.5 | L68: 115 | M68: 140 | N68: 152.5 | O68: 180
A69: 66 | B69: 150 | C69: 207.5 | D69: 252.5 | E69: 275 | F69: 320 | J69: 52 | K69: 90 | L69: 125 | M69: 152.5 | N69: 165 | O69: 190
A70: 74 | B70: 170 | C70: 240 | D70: 290 | E70: 320 | F70: 340 | J70: 57 | K70: 95 | L70: 132.5 | M70: 162.5 | N70: 177.5 | O70: 200
A71: 83 | B71: 192.5 | C71: 270 | D71: 327.5 | E71: 350 | F71: 370 | J71: 63 | K71: 100 | L71: 140 | M71: 170 | N71: 182.5 | O71: 210
A72: 93 | B72: 212.5 | C72: 297.5 | D72: 362.5 | E72: 385 | F72: 420 | J72: 69 | K72: 105 | L72: 145 | M72: 177.5 | N72: 192.5 | O72: 225
A73: 105 | B73: 222.5 | C73: 312.5 | D73: 380 | E73: 410 | F73: 440 | J73: 76 | K73: 110 | L73: 152.5 | M73: 185 | N73: 200 | O73: 240
A74: 120 | B74: 242.5 | C74: 340 | D74: 412.5 | E74: 440 | F74: 470 | J74: 84 | K74: 115 | L74: 160 | M74: 195 | N74: 212.5 | O74: 255
A75: 120 + | B75: 260 | C75: 362.5 | D75: 440 | E75: 470 | F75: 510 | J75: 84 + | K75: 125 | L75: 172.5 | M75: 210 | N75: 227.5 | O75: 270
A77: Master 4 masculin | J77: Master 4 féminine
A78: Catég. | B78: R3 | C78: R2 | D78: R1 | E78: N2 | F78: N1 | J78: Catég. | K78: R3 | L78: R2 | M78: R1 | N78: N2 | O78: N1
A79: 59 | B79: 95 | C79: 132.5 | D79: 162.5 | E79: 180 | F79: 220 | J79: 47 | K79: 62.5 | L79: 87.5 | M79: 105 | N79: 115 | O79: 150
A80: 66 | B80: 112.5 | C80: 155 | D80: 190 | E80: 207.5 | F80: 250 | J80: 52 | K80: 67.5 | L80: 95 | M80: 115 | N80: 125 | O80: 160
A81: 74 | B81: 127.5 | C81: 177.5 | D81: 217.5 | E81: 235 | F81: 280 | J81: 57 | K81: 72.5 | L81: 100 | M81: 120 | N81: 132.5 | O81: 170
A82: 83 | B82: 145 | C82: 202.5 | D82: 245 | E82: 265 | F82: 310 | J82: 63 | K82: 75 | L82: 105 | M82: 125 | N82: 135 | O82: 180
A83: 93 | B83: 160 | C83: 222.5 | D83: 270 | E83: 292.5 | F83: 330 | J83: 69 | K83: 77.5 | L83: 110 | M83: 132.5 | N83: 145 | O83: 190
A84: 105 | B84: 167.5 | C84: 235 | D84: 285 | E84: 312.5 | F84: 360 | J84: 76 | K84: 82.5 | L84: 115 | M84: 140 | N84: 152.5 | O84: 200
A85: 120 | B85: 180 | C85: 255 | D85: 310 | E85: 337.5 | F85: 375 | J85: 84 | K85: 87.5 | L85: 120 | M85: 147.5 | N85: 160 | O85: 210
A86: 120 + | B86: 195 | C86: 272.5 | D86: 332.5 | E86: 360 | F86: 390 | J86: 84 + | K86: 92.5 | L86: 130 | M86: 157.5 | N86: 170 | O86: 220

Sheet Niveaux PL
A1: NIVEAUX PowerLifting 13 Novembre 2025
A4: Junior / Senior / Open masculin | J4: Junior / Senior / Open féminine
A5: Catég. | B5: R3 | C5: R2 | D5: R1 | E5: N2 | F5: N1 | G5: Europe | H5: Monde | J5: Catég. | K5: R3 | L5: R2 | M5: R1 | N5: N2 | O5: N1 | P5: Europe | Q5: Monde
A6: 59 | B6: 235 | C6: 327.5 | D6: 397.5 | E6: ='Niveaux FA'!E35+2.5 -> 502.5 | F6: ='Niveaux FA'!F35+2.5 -> 537.5 | G6: 600 | H6: 620 | J6: 47 | K6: 137.5 | L6: 192.5 | M6: 232.5 | N6: ='Niveaux FA'!N35+2.5 -> 302.5 | O6: ='Niveaux FA'!O35+2.5 -> 327.5 | P6: 400 | Q6: 430
A7: 66 | B7: 275 | C7: 385 | D7: 465 | E7: ='Niveaux FA'!E36+2.5 -> 582.5 | F7: ='Niveaux FA'!F36+2.5 -> 602.5 | G7: 670 | H7: 700 | J7: 52 | K7: 150 | L7: 210 | M7: 255 | N7: ='Niveaux FA'!N36+2.5 -> 352.5 | O7: ='Niveaux FA'!O36+2.5 -> 382.5 | P7: 440 | Q7: 470
A8: 74 | B8: 307.5 | C8: 425 | D8: 520 | E8: ='Niveaux FA'!E37+2.5 -> 662.5 | F8: ='Niveaux FA'!F37+2.5 -> 682.5 | G8: 770 | H8: 790 | J8: 57 | K8: 162.5 | L8: 225 | M8: 275 | N8: ='Niveaux FA'!N37+2.5 -> 387.5 | O8: ='Niveaux FA'!O37+2.5 -> 412.5 | P8: 480 | Q8: 500
A9: 83 | B9: 322.5 | C9: 452.5 | D9: 550 | E9: ='Niveaux FA'!E38+2.5 -> 722.5 | F9: ='Niveaux FA'!F38+2.5 -> 742.5 | G9: 820 | H9: 840 | J9: 63 | K9: 172.5 | L9: 240 | M9: 292.5 | N9: ='Niveaux FA'!N38+2.5 -> 402.5 | O9: ='Niveaux FA'!O38+2.5 -> 442.5 | P9: 510 | Q9: 530
A10: 93 | B10: 342.5 | C10: 477.5 | D10: 580 | E10: ='Niveaux FA'!E39+2.5 -> 747.5 | F10: ='Niveaux FA'!F39+2.5 -> 772.5 | G10: 870 | H10: 900 | J10: 69 | K10: 180 | L10: 252.5 | M10: 305 | N10: ='Niveaux FA'!N39+2.5 -> 422.5 | O10: ='Niveaux FA'!O39+2.5 -> 462.5 | P10: 540 | Q10: 570
A11: 105 | B11: 362.5 | C11: 507.5 | D11: 615 | E11: ='Niveaux FA'!E40+2.5 -> 762.5 | F11: ='Niveaux FA'!F40+2.5 -> 802.5 | G11: 930 | H11: 960 | J11: 76 | K11: 190 | L11: 267.5 | M11: 322.5 | N11: ='Niveaux FA'!N40+2.5 -> 427.5 | O11: ='Niveaux FA'!O40+2.5 -> 472.5 | P11: 560 | Q11: 590
A12: 120 | B12: 375 | C12: 525 | D12: 635 | E12: ='Niveaux FA'!E41+2.5 -> 772.5 | F12: ='Niveaux FA'!F41+2.5 -> 812.5 | G12: 970 | H12: 1000 | J12: 84 | K12: 197.5 | L12: 277.5 | M12: 335 | N12: ='Niveaux FA'!N41+2.5 -> 437.5 | O12: ='Niveaux FA'!O41+2.5 -> 482.5 | P12: 570 | Q12: 600
A13: 120 + | B13: 385 | C13: 540 | D13: 655 | E13: ='Niveaux FA'!E42+2.5 -> 802.5 | F13: ='Niveaux FA'!F42+2.5 -> 822.5 | G13: 1000 | H13: 1015 | J13: 84+ | K13: 200 | L13: 280 | M13: 340 | N13: ='Niveaux FA'!N42+2.5 -> 442.5 | O13: ='Niveaux FA'!O42+2.5 -> 502.5 | P13: 580 | Q13: 610
A14: Les performances inférieures au R3 sont classées par défaut comme niveau départemental
A15: Master 1 masculin | J15: Master 1 féminine
A16: Catég. | B16: R3 | C16: R2 | D16: R1 | E16: N2 | F16: N1 | J16: Catég. | K16: R3 | L16: R2 | M16: R1 | N16: N2 | O16: N1
A17: 59 | B17: 190 | C17: 265 | D17: 320 | E17: =F17-10 -> 367.5 | F17: 377.5 | J17: 47 | K17: 112.5 | L17: 160 | M17: 192.5 | N17: =O17-10 -> 217.5 | O17: 227.5
A18: 66 | B18: 225 | C18: 315 | D18: 380 | E18: =F18-10 -> 437.5 | F18: 447.5 | J18: 52 | K18: 122.5 | L18: 172.5 | M18: 210 | N18: =O18-10 -> 237.5 | O18: 247.5
A19: 74 | B19: 245 | C19: 345 | D19: 415 | E19: =F19-15 -> 475 | F19: 490 | J19: 57 | K19: 132.5 | L19: 185 | M19: 225 | N19: =O19-15 -> 250 | O19: 265
A20: 83 | B20: 275 | C20: 385 | D20: 470 | E20: =F20-15 -> 537.5 | F20: 552.5 | J20: 63 | K20: 135 | L20: 190 | M20: 230 | N20: =O20-15 -> 255 | O20: 270
A21: 93 | B21: 292.5 | C21: 410 | D21: 497.5 | E21: =F21-20 -> 565 | F21: 585 | J21: 69 | K21: 140 | L21: 197.5 | M21: 237.5 | N21: =O21-20 -> 260 | O21: 280
A22: 105 | B22: 307.5 | C22: 430 | D22: 522.5 | E22: =F22-20 -> 595 | F22: 615 | J22: 76 | K22: 142.5 | L22: 202.5 | M22: 245 | N22: =O22-20 -> 267.5 | O22: 287.5
A23: 120 | B23: 317.5 | C23: 445 | D23: 540 | E23: =F23-25 -> 610 | F23: 635 | J23: 84 | K23: 152.5 | L23: 212.5 | M23: 257.5 | N23: =O23-25 -> 277.5 | O23: 302.5
A24: 120 + | B24: 340 | C24: 475 | D24: 577.5 | E24: =F24-30 -> 650 | F24: 680 | J24: 84 + | K24: 162.5 | L24: 225 | M24: 275 | N24: =O24-30 -> 292.5 | O24: 322.5
A26: Master 2 masculin | J26: Master 2 féminine
A27: Catég. | B27: R3 | C27: R2 | D27: R1 | E27: N2 | F27: N1 | J27: Catég. | K27: R3 | L27: R2 | M27: R1 | N27: N2 | O27: N1
A28: 59 | B28: 170 | C28: 237.5 | D28: 290 | E28: =F28-10 -> 330 | F28: 340 | J28: 47 | K28: 102.5 | L28: 142.5 | M28: 175 | N28: =O28-10 -> 195 | O28: 205
A29: 66 | B29: 202.5 | C29: 280 | D29: 342.5 | E29: =F29-10 -> 392.5 | F29: 402.5 | J29: 52 | K29: 112.5 | L29: 155 | M29: 190 | N29: =O29-10 -> 212.5 | O29: 222.5
A30: 74 | B30: 220 | C30: 310 | D30: 375 | E30: =F30-15 -> 427.5 | F30: 442.5 | J30: 57 | K30: 120 | L30: 167.5 | M30: 202.5 | N30: =O30-15 -> 225 | O30: 240
A31: 83 | B31: 250 | C31: 350 | D31: 422.5 | E31: =F31-15 -> 482.5 | F31: 497.5 | J31: 63 | K31: 122.5 | L31: 170 | M31: 207.5 | N31: =O31-15 -> 227.5 | O31: 242.5
A32: 93 | B32: 262.5 | C32: 367.5 | D32: 445 | E32: =F32-20 -> 505 | F32: 525 | J32: 69 | K32: 125 | L32: 175 | M32: 212.5 | N32: =O32-20 -> 230 | O32: 250
A33: 105 | B33: 277.5 | C33: 390 | D33: 472.5 | E33: =F33-20 -> 535 | F33: 555 | J33: 76 | K33: 130 | L33: 180 | M33: 217.5 | N33: =O33-20 -> 237.5 | O33: 257.5
A34: 120 | B34: 285 | C34: 400 | D34: 485 | E34: =F34-25 -> 547.5 | F34: 572.5 | J34: 84 | K34: 137.5 | L34: 190 | M34: 232.5 | N34: =O34-25 -> 247.5 | O34: 272.5
A35: 120 + | B35: 305 | C35: 427.5 | D35: 520 | E35: =F35-30 -> 582.5 | F35: 612.5 | J35: 84 + | K35: 145 | L35: 202.5 | M35: 247.5 | N35: =O35-30 -> 260 | O35: 290
A37: Master 3 masculin | J37: Master 3 féminine
A38: Catég. | B38: R3 | C38: R2 | D38: R1 | E38: N2 | F38: N1 | J38: Catég. | K38: R3 | L38: R2 | M38: R1 | N38: N2 | O38: N1
A39: 59 | B39: 150 | C39: 212.5 | D39: 257.5 | E39: =F39-10 -> 292.5 | F39: 302.5 | J39: 47 | K39: 90 | L39: 127.5 | M39: 155 | N39: =O39-10 -> 172.5 | O39: 182.5
A40: 66 | B40: 177.5 | C40: 250 | D40: 302.5 | E40: =F40-10 -> 347.5 | F40: 357.5 | J40: 52 | K40: 100 | L40: 140 | M40: 167.5 | N40: =O40-10 -> 187.5 | O40: 197.5
A41: 74 | B41: 197.5 | C41: 275 | D41: 332.5 | E41: =F41-15 -> 377.5 | F41: 392.5 | J41: 57 | K41: 107.5 | L41: 147.5 | M41: 180 | N41: =O41-15 -> 197.5 | O41: 212.5
A42: 83 | B42: 220 | C42: 310 | D42: 375 | E42: =F42-15 -> 427.5 | F42: 442.5 | J42: 63 | K42: 110 | L42: 152.5 | M42: 185 | N42: =O42-15 -> 202.5 | O42: 217.5
A43: 93 | B43: 232.5 | C43: 327.5 | D43: 397.5 | E43: =F43-20 -> 447.5 | F43: 467.5 | J43: 69 | K43: 112.5 | L43: 157.5 | M43: 190 | N43: =O43-20 -> 205 | O43: 225
A44: 105 | B44: 245 | C44: 345 | D44: 417.5 | E44: =F44-20 -> 472.5 | F44: 492.5 | J44: 76 | K44: 115 | L44: 160 | M44: 195 | N44: =O44-20 -> 210 | O44: 230
A45: 120 | B45: 255 | C45: 355 | D45: 430 | E45: =F45-25 -> 482.5 | F45: 507.5 | J45: 84 | K45: 120 | L45: 170 | M45: 207.5 | N45: =O45-25 -> 217.5 | O45: 242.5
A46: 120 + | B46: 272.5 | C46: 380 | D46: 462.5 | E46: =F46-30 -> 515 | F46: 545 | J46: 84 + | K46: 127.5 | L46: 180 | M46: 217.5 | N46: =O46-30 -> 227.5 | O46: 257.5
A48: Master 4 masculin | J48: Master 4 féminine
A49: Catég. | B49: R3 | C49: R2 | D49: R1 | E49: N2 | F49: N1 | J49: Catég. | K49: R3 | L49: R2 | M49: R1 | N49: N2 | O49: N1
A50: 59 | B50: 112.5 | C50: 160 | D50: 192.5 | E50: =F50-10 -> 217.5 | F50: 227.5 | J50: 47 | K50: 67.5 | L50: 97.5 | M50: 115 | N50: =O50-10 -> 127.5 | O50: 137.5
A51: 66 | B51: 132.5 | C51: 187.5 | D51: 227.5 | E51: =F51-10 -> 257.5 | F51: 267.5 | J51: 52 | K51: 72.5 | L51: 102.5 | M51: 125 | N51: =O51-10 -> 137.5 | O51: 147.5
A52: 74 | B52: 147.5 | C52: 205 | D52: 250 | E52: =F52-15 -> 280 | F52: 295 | J52: 57 | K52: 80 | L52: 112.5 | M52: 135 | N52: =O52-15 -> 145 | O52: 160
A53: 83 | B53: 165 | C53: 230 | D53: 280 | E53: =F53-15 -> 315 | F53: 330 | J53: 63 | K53: 82.5 | L53: 115 | M53: 137.5 | N53: =O53-15 -> 147.5 | O53: 162.5
A54: 93 | B54: 175 | C54: 245 | D54: 297.5 | E54: =F54-20 -> 330 | F54: 350 | J54: 69 | K54: 85 | L54: 117.5 | M54: 142.5 | N54: =O54-15 -> 152.5 | O54: 167.5
A55: 105 | B55: 185 | C55: 260 | D55: 315 | E55: =F55-20 -> 350 | F55: 370 | J55: 76 | K55: 87.5 | L55: 120 | M55: 145 | N55: =O55-15 -> 157.5 | O55: 172.5
A56: 120 | B56: 190 | C56: 267.5 | D56: 322.5 | E56: =F56-25 -> 355 | F56: 380 | J56: 84 | K56: 92.5 | L56: 127.5 | M56: 155 | N56: =O56-20 -> 162.5 | O56: 182.5
A57: 120 + | B57: 202.5 | C57: 285 | D57: 345 | E57: =F57-30 -> 377.5 | F57: 407.5 | J57: 84 + | K57: 97.5 | L57: 137.5 | M57: 165 | N57: =O57-20 -> 175 | O57: 195

Sheet Niveaux DC
A1: NIVEAUX DEVELOPPE COUCHE
A2: A la date du 26 Janvier 2026
B3: Les performances inférieures au R3 sont classées par défaut comme niveau départemental
A4: SJR masculin (U18) | J4: SJR féminine (U18)
A5: Catég. | B5: R3 | C5: R2 | D5: R1 | E5: N2 | F5: N1 | J5: Catég. | K5: R3 | L5: R2 | M5: R1 | N5: N2 | O5: N1
A6: 53 | B6: 35 | C6: 42.5 | D6: 50 | E6: 57.5 | F6: 62.5 | J6: 43 | K6: 20 | L6: 25 | M6: 30 | N6: 35 | O6: 37.5
A7: 59 | B7: 40 | C7: 47.5 | D7: 55 | E7: 62.5 | F7: 67.5 | J7: 47 | K7: 20 | L7: 27.5 | M7: 32.5 | N7: 37.5 | O7: 42.5
A8: 66 | B8: 47.5 | C8: 57.5 | D8: 67.5 | E8: 77.5 | F8: 82.5 | J8: 52 | K8: 25 | L8: 30 | M8: 35 | N8: 40 | O8: 45
A9: 74 | B9: 57.5 | C9: 67.5 | D9: 80 | E9: 90 | F9: 95 | J9: 57 | K9: 27.5 | L9: 32.5 | M9: 37.5 | N9: 42.5 | O9: 47.5
A10: 83 | B10: 62.5 | C10: 72.5 | D10: 85 | E10: 95 | F10: 100 | J10: 63 | K10: 30 | L10: 35 | M10: 42.5 | N10: 47.5 | O10: 52.5
A11: 93 | B11: 67.5 | C11: 80 | D11: 92.5 | E11: 100 | F11: 105 | J11: 69 | K11: 32.5 | L11: 37.5 | M11: 47.5 | N11: 52.5 | O11: 57.5
A12: 105 | B12: 72.5 | C12: 85 | D12: 97.5 | E12: 112.5 | F12: 120 | J12: 76 | K12: 35 | L12: 42.5 | M12: 50 | N12: 55 | O12: 60
A13: 120 | B13: 80 | C13: 92.5 | D13: 107.5 | E13: 115 | F13: 122.5 | J13: 84 | K13: 37.5 | L13: 45 | M13: 55 | N13: 60 | O13: 67.5
A14: 120 + | B14: 85 | C14: 97.5 | D14: 112.5 | E14: 120 | F14: 127.5 | J14: 84+ | K14: 40 | L14: 50 | M14: 60 | N14: 70 | O14: 75
A15: SJR = Sub-Junior
A16: JR masculin (U23) | J16: JR féminine (U23)
A17: Catég. | B17: R3 | C17: R2 | D17: R1 | E17: N2 | F17: N1 | G17: Europe | H17: Monde | J17: Catég. | K17: R3 | L17: R2 | M17: R1 | N17: N2 | O17: N1 | P17: Europe | Q17: Monde
A18: 53 | B18: 45 | C18: 52.5 | D18: 72.5 | E18: 85 | F18: 92.5 | G18: 100 | H18: 115 | J18: 43 | K18: 25 | L18: 30 | M18: 35 | N18: 40 | O18: 45 | P18: 60 | Q18: 70
A19: 59 | B19: 52.5 | C19: 67.5 | D19: 80 | E19: 95 | F19: 100 | G19: 120 | H19: 130 | J19: 47 | K19: 25 | L19: 32.5 | M19: 40 | N19: 47.5 | O19: 50 | P19: 70 | Q19: 75
A20: 66 | B20: 57.5 | C20: 75 | D20: 95 | E20: 110 | F20: 127.5 | G20: 135 | H20: 150 | J20: 52 | K20: 27.5 | L20: 35 | M20: 45 | N20: 50 | O20: 55 | P20: 75 | Q20: 85
A21: 74 | B21: 62.5 | C21: 87.5 | D21: 102.5 | E21: 125 | F21: 142.5 | G21: 150 | H21: 165 | J21: 57 | K21: 30 | L21: 37.5 | M21: 47.5 | N21: 55 | O21: 65 | P21: 85 | Q21: 95
A22: 83 | B22: 67.5 | C22: 92.5 | D22: 115 | E22: 132.5 | F22: 150 | G22: 165 | H22: 175 | J22: 63 | K22: 32.5 | L22: 40 | M22: 50 | N22: 60 | O22: 70 | P22: 95 | Q22: 105
A23: 93 | B23: 75 | C23: 105 | D23: 125 | E23: 150 | F23: 160 | G23: 175 | H23: 190 | J23: 69 | K23: 35 | L23: 45 | M23: 55 | N23: 65 | O23: 77.5 | P23: 105 | Q23: 110
A24: 105 | B24: 77.5 | C24: 110 | D24: 130 | E24: 155 | F24: 162.5 | G24: 190 | H24: 195 | J24: 76 | K24: 40 | L24: 50 | M24: 60 | N24: 70 | O24: 82.5 | P24: 110 | Q24: 115
A25: 120 | B25: 80 | C25: 112.5 | D25: 135 | E25: 160 | F25: 167.5 | G25: 195 | H25: 210 | J25: 84 | K25: 45 | L25: 55 | M25: 65 | N25: 77.5 | O25: 85 | P25: 115 | Q25: 120
A26: 120 + | B26: 82.5 | C26: 115 | D26: 140 | E26: 165 | F26: 172.5 | G26: 200 | H26: 220 | J26: 84+ | K26: 50 | L26: 57.5 | M26: 70 | N26: 80 | O26: 90 | P26: 120 | Q26: 125
A27: JR = Junior
A28: SNR masculin | J28: SNR féminine
A29: Catég. | B29: R3 | C29: R2 | D29: R1 | E29: N2 | F29: N1 | G29: Europe | H29: Monde | J29: Catég. | K29: R3 | L29: R2 | M29: R1 | N29: N2 | O29: N1 | P29: Europe | Q29: Monde
A30: 59 | B30: 55 | C30: 77.5 | D30: 92.5 | E30: 110 | F30: 112.5 | G30: 135 | H30: 150 | J30: 47 | K30: 25 | L30: 35 | M30: 42.5 | N30: 52.5 | O30: 57.5 | P30: 75 | Q30: 80
A31: 66 | B31: 65 | C31: 90 | D31: 110 | E31: 130 | F31: 135 | G31: 155 | H31: 170 | J31: 52 | K31: 27.5 | L31: 37.5 | M31: 45 | N31: 57.5 | O31: 65 | P31: 85 | Q31: 95
A32: 74 | B32: 72.5 | C32: 102.5 | D32: 125 | E32: 147.5 | F32: 150 | G32: 175 | H32: 185 | J32: 57 | K32: 30 | L32: 40 | M32: 50 | N32: 62.5 | O32: 72.5 | P32: 92.5 | Q32: 102.5
A33: 83 | B33: 82.5 | C33: 115 | D33: 140 | E33: 162.5 | F33: 170 | G33: 190 | H33: 202.5 | J33: 63 | K33: 35 | L33: 45 | M33: 55 | N33: 67.5 | O33: 80 | P33: 102.5 | Q33: 110
A34: 93 | B34: 87.5 | C34: 122.5 | D34: 150 | E34: 175 | F34: 180 | G34: 205 | H34: 215 | J34: 69 | K34: 40 | L34: 50 | M34: 60 | N34: 72.5 | O34: 82.5 | P34: 110 | Q34: 115
A35: 105 | B35: 92.5 | C35: 130 | D35: 157.5 | E35: 185 | F35: 190 | G35: 215 | H35: 225 | J35: 76 | K35: 45 | L35: 55 | M35: 65 | N35: 77.5 | O35: 85 | P35: 115 | Q35: 120
A36: 120 | B36: 100 | C36: 140 | D36: 170 | E36: 200 | F36: 205 | G36: 230 | H36: 235 | J36: 84 | K36: 50 | L36: 60 | M36: 70 | N36: 82.5 | O36: 90 | P36: 120 | Q36: 125
A37: 120 + | B37: 107.5 | C37: 150 | D37: 182.5 | E37: 215 | F37: 220 | G37: 240 | H37: 245 | J37: 84+ | K37: 55 | L37: 65 | M37: 77.5 | N37: 87.5 | O37: 95 | P37: 125 | Q37: 130
A38: SNR = Senior
A39: M1 masculin | J39: M1 féminine
A40: Catég. | B40: R3 | C40: R2 | D40: R1 | E40: N2 | F40: N1 | J40: Catég. | K40: R3 | L40: R2 | M40: R1 | N40: N2 | O40: N1
A41: 59 | B41: 47.5 | C41: 67.5 | D41: 80 | E41: =(D41+F41)/2 -> 87.5 | F41: 95 | J41: 47 | K41: 20 | L41: 27.5 | M41: 35 | N41: =(M41+O41)/2 -> 37.5 | O41: 40
A42: 66 | B42: 55 | C42: 77.5 | D42: 95 | E42: =(D42+F42)/2 -> 102.5 | F42: 110 | J42: 52 | K42: 22.5 | L42: 30 | M42: 35 | N42: 40 | O42: 45
A43: 74 | B43: 62.5 | C43: 87.5 | D43: 107.5 | E43: 115 | F43: 125 | J43: 57 | K43: 25 | L43: 35 | M43: 40 | N43: 45 | O43: 50
A44: 83 | B44: 70 | C44: 100 | D44: 120 | E44: =(D44+F44)/2 -> 130 | F44: 140 | J44: 63 | K44: 27.5 | L44: 37.5 | M44: 45 | N44: 50 | O44: 55
A45: 93 | B45: 77.5 | C45: 110 | D45: 130 | E45: 140 | F45: 152.5 | J45: 69 | K45: 30 | L45: 40 | M45: 47.5 | N45: 52.5 | O45: 57.5
A46: 105 | B46: 82.5 | C46: 117.5 | D46: 140 | E46: 150 | F46: 162.5 | J46: 76 | K46: 32.5 | L46: 42.5 | M46: 50 | N46: 55 | O46: 60
A47: 120 | B47: 90 | C47: 127.5 | D47: 150 | E47: =(D47+F47)/2 -> 162.5 | F47: 175 | J47: 84 | K47: 35 | L47: 50 | M47: 60 | N47: =(M47+O47)/2 -> 65 | O47: 70
A48: 120 + | B48: 100 | C48: 140 | D48: 170 | E48: =(D48+F48)/2 -> 185 | F48: 200 | J48: 84 + | K48: 37.5 | L48: 55 | M48: 65 | N48: 72.5 | O48: 77.5
A49: M1 = Master 1
A50: M2 masculin | J50: M2 féminine
A51: Catég. | B51: R3 | C51: R2 | D51: R1 | E51: N2 | F51: N1 | J51: Catég. | K51: R3 | L51: R2 | M51: R1 | N51: N2 | O51: N1
A52: 59 | B52: 42.5 | C52: 60 | D52: 72.5 | E52: 80 | F52: 85 | J52: 47 | K52: 20 | L52: 25 | M52: 27.5 | N52: 32.5 | O52: 35
A53: 66 | B53: 47.5 | C53: 67.5 | D53: 80 | E53: 87.5 | F53: 95 | J53: 52 | K53: 20 | L53: 27.5 | M53: 30 | N53: =(M53+O53)/2 -> 35 | O53: 40
A54: 74 | B54: 57.5 | C54: 80 | D54: 97.5 | E54: 107.5 | F54: 115 | J54: 57 | K54: 22.5 | L54: 30 | M54: 35 | N54: =(M54+O54)/2 -> 40 | O54: 45
A55: 83 | B55: 62.5 | C55: 87.5 | D55: 107.5 | E55: 117.5 | F55: 125 | J55: 63 | K55: 25 | L55: 32.5 | M55: 37.5 | N55: 42.5 | O55: 47.5
A56: 93 | B56: 67.5 | C56: 97.5 | D56: 117.5 | E56: 127.5 | F56: 137.5 | J56: 69 | K56: 27.5 | L56: 35 | M56: 40 | N56: 45 | O56: 50
A57: 105 | B57: 77.5 | C57: 107.5 | D57: 130 | E57: 140 | F57: 152.5 | J57: 76 | K57: 30 | L57: 37.5 | M57: 42.5 | N57: =(M57+O57)/2 -> 47.5 | O57: 52.5
A58: 120 | B58: 85 | C58: 117.5 | D58: 142.5 | E58: 152.5 | F58: 162.5 | J58: 84 | K58: 32.5 | L58: 40 | M58: 50 | N58: 55 | O58: 57.5
A59: 120 + | B59: 92.5 | C59: 127.5 | D59: 155 | E59: 165 | F59: 172.5 | J59: 84 + | K59: 35 | L59: 45 | M59: 55 | N59: 60 | O59: 65
A60: M2 = Master 2
A61: M3 masculin | J61: M3 féminine
A62: Catég. | B62: R3 | C62: R2 | D62: R1 | E62: N2 | F62: N1 | J62: Catég. | K62: R3 | L62: R2 | M62: R1 | N62: N2 | O62: N1
A63: 59 | B63: 37.5 | C63: 50 | D63: 62.5 | E63: 67.5 | F63: 72.5 | J63: 47 | K63: 20 | L63: 22.5 | M63: 25 | N63: 30 | O63: 32.5
A64: 66 | B64: 42.5 | C64: 60 | D64: 72.5 | E64: 80 | F64: 85 | J64: 52 | K64: 22.5 | L64: 25 | M64: 27.5 | N64: 32.5 | O64: 35
A65: 74 | B65: 47.5 | C65: 67.5 | D65: 80 | E65: 90 | F65: 95 | J65: 57 | K65: 25 | L65: 27.5 | M65: 30 | N65: 35 | O65: 37.5
A66: 83 | B66: 52.5 | C66: 75 | D66: 90 | E66: 100 | F66: 105 | J66: 63 | K66: 27.5 | L66: 30 | M66: 32.5 | N66: 37.5 | O66: 40
A67: 93 | B67: 60 | C67: 85 | D67: 102.5 | E67: 110 | F67: 115 | J67: 69 | K67: 30 | L67: 32.5 | M67: 35 | N67: 40 | O67: 45
A68: 105 | B68: 62.5 | C68: 87.5 | D68: 107.5 | E68: 115 | F68: 120 | J68: 76 | K68: 32.5 | L68: 35 | M68: 37.5 | N68: 42.5 | O68: 47.5
A69: 120 | B69: 67.5 | C69: 92.5 | D69: 112.5 | E69: 122.5 | F69: 130 | J69: 84 | K69: 35 | L69: 37.5 | M69: 42.5 | N69: 47.5 | O69: 52.5
A70: 120 + | B70: 70 | C70: 97.5 | D70: 117.5 | E70: 127.5 | F70: 135 | J70: 84 + | K70: 37.5 | L70: 40 | M70: 45 | N70: 50 | O70: 55
A71: M3 = Master 3
A72: M4 masculin | J72: M4 féminine
A73: Catég. | B73: R3 | C73: R2 | D73: R1 | E73: N2 | F73: N1 | J73: Catég. | K73: R3 | L73: R2 | M73: R1 | N73: N2 | O73: N1
A74: 59 | B74: 32.5 | C74: 45 | D74: 55 | E74: 57.5 | F74: 62.5 | J74: 47 | K74: 20 | L74: 22.5 | M74: 25 | N74: 27.5 | O74: 30
A75: 66 | B75: 35 | C75: 50 | D75: 60 | E75: 65 | F75: 70 | J75: 52 | K75: 22.5 | L75: 25 | M75: 27.5 | N75: 30 | O75: 32.5
A76: 74 | B76: 40 | C76: 55 | D76: 65 | E76: 72.5 | F76: 77.5 | J76: 57 | K76: 25 | L76: 27.5 | M76: 30 | N76: 32.5 | O76: 35
A77: 83 | B77: 45 | C77: 62.5 | D77: 77.5 | E77: 85 | F77: 90 | J77: 63 | K77: 27.5 | L77: 30 | M77: 32.5 | N77: 35 | O77: 37.5
A78: 93 | B78: 50 | C78: 70 | D78: 85 | E78: 90 | F78: 95 | J78: 69 | K78: 30 | L78: 32.5 | M78: 35 | N78: 37.5 | O78: 40
A79: 105 | B79: 52.5 | C79: 72.5 | D79: 90 | E79: 95 | F79: 100 | J79: 76 | K79: 32.5 | L79: 35 | M79: 37.5 | N79: 40 | O79: 42.5
A80: 120 | B80: 55 | C80: 77.5 | D80: 92.5 | E80: 100 | F80: 105 | J80: 84 | K80: 35 | L80: 37.5 | M80: 40 | N80: 42.5 | O80: 45
A81: 120 + | B81: 57.5 | C81: 80 | D81: 97.5 | E81: 105 | F81: 110 | J81: 84 + | K81: 37.5 | L81: 40 | M81: 42.5 | N81: 45 | O81: 50
A82: M4 = Master 4

Sheet Niveaux BP
A1: NIVEAUX BENCH PRESS
A2: A la date du 22 Janvier 2024 - Niveaux internationaux mis à jour le 13 Novembre 2025
B3: Les performances inférieures au R3 sont classées par défaut comme niveau départemental
A4: JR masculin | C4: SNR masculin | J4: JR féminine | L4: SNR féminine
A5: Catég. | B5: R3 | C5: R2 | D5: R1 | E5: N2 | F5: N1 | G5: Europe | H5: Monde | J5: Catég. | K5: R3 | L5: R2 | M5: R1 | N5: N2 | O5: N1 | P5: Europe | Q5: Monde
A6: 59 | B6: 65 | C6: 90 | D6: 110 | E6: 120 | F6: 130 | G6: 170 | H6: 190 | J6: 47 | K6: 30 | L6: 42.5 | M6: 50 | N6: 55 | O6: 60 | P6: 90 | Q6: 95
A7: 66 | B7: 72.5 | C7: 100 | D7: 125 | E7: 135 | F7: 145 | G7: 190 | H7: 205 | J7: 52 | K7: 32.5 | L7: 45 | M7: 55 | N7: 60 | O7: 65 | P7: 100 | Q7: 115
A8: 74 | B8: 82.5 | C8: 115 | D8: 140 | E8: 155 | F8: 165 | G8: 225 | H8: 235 | J8: 57 | K8: 35 | L8: 47.5 | M8: 57.5 | N8: 62.5 | O8: 67.5 | P8: 115 | Q8: 130
A9: 83 | B9: 92.5 | C9: 130 | D9: 157.5 | E9: 170 | F9: 185 | G9: 240 | H9: 260 | J9: 63 | K9: 37.5 | L9: 50 | M9: 60 | N9: 67.5 | O9: 72.5 | P9: 130 | Q9: 135
A10: 93 | B10: 100 | C10: 140 | D10: 170 | E10: 185 | F10: 200 | G10: 265 | H10: 290 | J10: 69 | K10: 40 | L10: 57.5 | M10: 67.5 | N10: 75 | O10: 80 | P10: 140 | Q10: 150
A11: 105 | B11: 110 | C11: 155 | D11: 187.5 | E11: 205 | F11: 220 | G11: 280 | H11: 310 | J11: 76 | K11: 42.5 | L11: 62.5 | M11: 75 | N11: 80 | O11: 87.5 | P11: 150 | Q11: 160
A12: 120 | B12: 120 | C12: 167.5 | D12: 205 | E12: 220 | F12: 240 | G12: 310 | H12: 325 | J12: 84 | K12: 47.5 | L12: 67.5 | M12: 80 | N12: 90 | O12: 95 | P12: 160 | Q12: 170
A13: 120 + | B13: 125 | C13: 175 | D13: 212.5 | E13: 235 | F13: 250 | G13: 325 | H13: 335 | J13: 84 + | K13: 52.5 | L13: 72.5 | M13: 90 | N13: 97.5 | O13: 105 | P13: 180 | Q13: 190
A15: M1 masculin | J15: M1 féminine
A16: Catég. | B16: R3 | C16: R2 | D16: R1 | E16: N2 | F16: N1 | J16: Catég. | K16: R3 | L16: R2 | M16: R1 | N16: N2 | O16: N1
A17: 59 | B17: 57.5 | C17: 80 | D17: 97.5 | E17: 105 | F17: 115 | J17: 47 | K17: 25 | L17: 35 | M17: 42.5 | N17: 47.5 | O17: 50
A18: 66 | B18: 65 | C18: 90 | D18: 110 | E18: 120 | F18: 130 | J18: 52 | K18: 27.5 | L18: 37.5 | M18: 45 | N18: 50 | O18: 55
A19: 74 | B19: 75 | C19: 105 | D19: 127.5 | E19: 140 | F19: 150 | J19: 57 | K19: 30 | L19: 40 | M19: 47.5 | N19: 52.5 | O19: 57.5
A20: 83 | B20: 85 | C20: 120 | D20: 145 | E20: 160 | F20: 170 | J20: 63 | K20: 32.5 | L20: 42.5 | M20: 50 | N20: 55 | O20: 60
A21: 93 | B21: 90 | C21: 125 | D21: 152.5 | E21: 167.5 | F21: 180 | J21: 69 | K21: 35 | L21: 45 | M21: 55 | N21: 60 | O21: 65
A22: 105 | B22: 100 | C22: 140 | D22: 170 | E22: 185 | F22: 200 | J22: 76 | K22: 37.5 | L22: 47.5 | M22: 57.5 | N22: 65 | O22: 67.5
A23: 120 | B23: 107.5 | C23: 150 | D23: 182.5 | E23: 200 | F23: 215 | J23: 84 | K23: 40 | L23: 52.5 | M23: 62.5 | N23: 70 | O23: 75
A24: 120 + | B24: 115 | C24: 160 | D24: 195 | E24: 210 | F24: 230 | J24: 84 + | K24: 42.5 | L24: 57.5 | M24: 67.5 | N24: 75 | O24: 80
A26: M2 masculin | J26: M2 féminine
A27: Catég. | B27: R3 | C27: R2 | D27: R1 | E27: N2 | F27: N1 | J27: Catég. | K27: R3 | L27: R2 | M27: R1 | N27: N2 | O27: N1
A28: 59 | B28: 55 | C28: 77.5 | D28: 92.5 | E28: 100 | F28: 110 | J28: 47 | K28: 22.5 | L28: 32.5 | M28: 37.5 | N28: 42.5 | O28: 45
A29: 66 | B29: 60 | C29: 85 | D29: 102.5 | E29: 110 | F29: 120 | J29: 52 | K29: 25 | L29: 35 | M29: 42.5 | N29: 47.5 | O29: 50
A30: 74 | B30: 67.5 | C30: 95 | D30: 115 | E30: 125 | F30: 135 | J30: 57 | K30: 27.5 | L30: 37.5 | M30: 45 | N30: 50 | O30: 52.5
A31: 83 | B31: 77.5 | C31: 110 | D31: 130 | E31: 135 | F31: 155 | J31: 63 | K31: 30 | L31: 40 | M31: 47.5 | N31: 52.5 | O31: 55
A32: 93 | B32: 85 | C32: 120 | D32: 145 | E32: 155 | F32: 170 | J32: 69 | K32: 32.5 | L32: 42.5 | M32: 50 | N32: 55 | O32: 60
A33: 105 | B33: 95 | C33: 132.5 | D33: 162.5 | E33: 170 | F33: 190 | J33: 76 | K33: 35 | L33: 45 | M33: 52.5 | N33: 60 | O33: 62.5
A34: 120 | B34: 100 | C34: 140 | D34: 170 | E34: 190 | F34: 200 | J34: 84 | K34: 37.5 | L34: 47.5 | M34: 60 | N34: 65 | O34: 70
A35: 120 + | B35: 105 | C35: 147.5 | D35: 180 | E35: 195 | F35: 210 | J35: 84 + | K35: 40 | L35: 50 | M35: 62.5 | N35: 70 | O35: 72.5
A37: M3 masculin | J37: M3 féminine
A38: Catég. | B38: R3 | C38: R2 | D38: R1 | E38: N2 | F38: N1 | J38: Catég. | K38: R3 | L38: R2 | M38: R1 | N38: N2 | O38: N1
A39: 59 | B39: 50 | C39: 70 | D39: 85 | E39: 95 | F39: 100 | J39: 47 | K39: 20 | L39: 30 | M39: 35 | N39: 37.5 | O39: 42.5
A40: 66 | B40: 55 | C40: 77.5 | D40: 92.5 | E40: 105 | F40: 110 | J40: 52 | K40: 22.5 | L40: 32.5 | M40: 37.5 | N40: 42.5 | O40: 45
A41: 74 | B41: 60 | C41: 85 | D41: 102.5 | E41: 112.5 | F41: 120 | J41: 57 | K41: 25 | L41: 35 | M41: 40 | N41: 45 | O41: 47.5
A42: 83 | B42: 65 | C42: 90 | D42: 110 | E42: 120 | F42: 127.5 | J42: 63 | K42: 27.5 | L42: 37.5 | M42: 42.5 | N42: 47.5 | O42: 50
A43: 93 | B43: 70 | C43: 100 | D43: 120 | E43: 130 | F43: 140 | J43: 69 | K43: 30 | L43: 40 | M43: 45 | N43: 50 | O43: 52.5
A44: 105 | B44: 75 | C44: 105 | D44: 127.5 | E44: 140 | F44: 150 | J44: 76 | K44: 32.5 | L44: 42.5 | M44: 47.5 | N44: 52.5 | O44: 55
A45: 120 | B45: 77.5 | C45: 110 | D45: 132.5 | E45: 145 | F45: 155 | J45: 84 | K45: 35 | L45: 45 | M45: 52.5 | N45: 57.5 | O45: 62.5
A46: 120 + | B46: 80 | C46: 115 | D46: 137.5 | E46: 150 | F46: 160 | J46: 84 + | K46: 37.5 | L46: 47.5 | M46: 55 | N46: 60 | O46: 65
A48: M4 masculin | J48: M4 féminine
A49: Catég. | B49: R3 | C49: R2 | D49: R1 | E49: N2 | F49: N1 | J49: Catég. | K49: R3 | L49: R2 | M49: R1 | N49: N2 | O49: N1
A50: 59 | B50: 42.5 | C50: 60 | D50: 70 | E50: 75 | F50: 82.5 | J50: 47 | K50: 25 | L50: 27.5 | M50: 32.5 | N50: 35 | O50: 40
A51: 66 | B51: 45 | C51: 62.5 | D51: 75 | E51: 85 | F51: 90 | J51: 52 | K51: 27.5 | L51: 30 | M51: 35 | N51: 37.5 | O51: 42.5
A52: 74 | B52: 50 | C52: 70 | D52: 85 | E52: 90 | F52: 95 | J52: 57 | K52: 30 | L52: 32.5 | M52: 37.5 | N52: 40 | O52: 45
A53: 83 | B53: 52.5 | C53: 72.5 | D53: 90 | E53: 95 | F53: 100 | J53: 63 | K53: 32.5 | L53: 35 | M53: 40 | N53: 42.5 | O53: 47.5
A54: 93 | B54: 57.5 | C54: 80 | D54: 97.5 | E54: 105 | F54: 110 | J54: 69 | K54: 35 | L54: 40 | M54: 42.5 | N54: 45 | O54: 50
A55: 105 | B55: 60 | C55: 85 | D55: 102.5 | E55: 110 | F55: 115 | J55: 76 | K55: 37.5 | L55: 42.5 | M55: 45 | N55: 50 | O55: 52.5
A56: 120 | B56: 62.5 | C56: 87.5 | D56: 105 | E56: 115 | F56: 120 | J56: 84 | K56: 40 | L56: 45 | M56: 50 | N56: 52.5 | O56: 55
A57: 120 + | B57: 65 | C57: 90 | D57: 110 | E57: 120 | F57: 125 | J57: 84 + | K57: 45 | L57: 50 | M57: 57.5 | N57: 60 | O57: 62.5

Sheet Cat - Age 2026
A2: CATEGORIE D'AGES
A3: SAISON 2026
A4: du 1er Janvier 2025 au 31 décembre 2026
A5: Dénomination | B5: Sexe | C5: Age de | D5: Année de naissance
A6: SUBJUNIOR (U18) (seulement en FA et DC) | B6: Hommes et Femmes | C6: 14 à 18 ans | D6: 2012 à 2008
A7: JUNIOR (U23) (seulement en FA et DC) | B7: Hommes et Femmes | C7: 19 à 23 ans | D7: 2007 à 2003
A8: SENIORS FA, DC, PL, BP | B8: Hommes et Femmes | C8: 24 à 39 ans | D8: 2002 à 1987
A9: OPEN FA, DC, PL, BP | B9: Hommes et Femmes | C9: 19 ans et plus | D9: 2007 et antérieurement
A10: MASTERS I FA, DC, PL, BP | B10: Hommes et Femmes | C10: 40 à 49 ans | D10: 1986 à 1977
A11: MASTERS II FA, DC, PL, BP | B11: Hommes et Femmes | C11: 50 à 59 ans | D11: 1976 à 1967
A12: MASTERS III FA, DC, PL, BP | B12: Hommes et Femmes | C12: 60 à 69 ans | D12: 1966 à 1957
A13: MASTERS IV FA, DC, PL, BP | B13: Hommes et Femmes | C13: 70 et plus | D13: 1956 et antérieurement
